BEGIN:VCALENDAR
VERSION:2.0
PRODID:-//Marquette Golf Club - Marquette, MI - ECPv6.15.20//NONSGML v1.0//EN
CALSCALE:GREGORIAN
METHOD:PUBLISH
X-WR-CALNAME:Marquette Golf Club - Marquette, MI
X-ORIGINAL-URL:https://golfgreywalls.com
X-WR-CALDESC:Events for Marquette Golf Club - Marquette, MI
REFRESH-INTERVAL;VALUE=DURATION:PT1H
X-Robots-Tag:noindex
X-PUBLISHED-TTL:PT1H
BEGIN:VTIMEZONE
TZID:UTC
BEGIN:STANDARD
TZOFFSETFROM:+0000
TZOFFSETTO:+0000
TZNAME:UTC
DTSTART:20240101T000000
END:STANDARD
END:VTIMEZONE
BEGIN:VEVENT
DTSTART;TZID=UTC:20250818T070000
DTEND;TZID=UTC:20250818T123000
DTSTAMP:20260421T170957
CREATED:20250205T213652Z
LAST-MODIFIED:20250205T213655Z
UID:10000193-1755500400-1755520200@golfgreywalls.com
SUMMARY:Greywalls Maintenance
DESCRIPTION:
URL:https://golfgreywalls.com/event/greywalls-maintenance/2025-08-18/
LOCATION:Greywalls
CATEGORIES:Course Maintenance
END:VEVENT
BEGIN:VEVENT
DTSTART;TZID=UTC:20250817T080000
DTEND;TZID=UTC:20250817T120000
DTSTAMP:20260421T170957
CREATED:20250205T202412Z
LAST-MODIFIED:20250205T202414Z
UID:10000162-1755417600-1755432000@golfgreywalls.com
SUMMARY:Ladies Club Championship
DESCRIPTION:
URL:https://golfgreywalls.com/event/ladies-club-championship/2025-08-17/
CATEGORIES:MGC Hosted Tournaments
END:VEVENT
BEGIN:VEVENT
DTSTART;TZID=UTC:20250816T080000
DTEND;TZID=UTC:20250816T120000
DTSTAMP:20260421T170957
CREATED:20250205T202412Z
LAST-MODIFIED:20250205T202414Z
UID:10000161-1755331200-1755345600@golfgreywalls.com
SUMMARY:Ladies Club Championship
DESCRIPTION:
URL:https://golfgreywalls.com/event/ladies-club-championship/2025-08-16/
CATEGORIES:MGC Hosted Tournaments
END:VEVENT
BEGIN:VEVENT
DTSTART;TZID=UTC:20250815T080000
DTEND;TZID=UTC:20250815T120000
DTSTAMP:20260421T170957
CREATED:20250205T202412Z
LAST-MODIFIED:20250205T202414Z
UID:10000160-1755244800-1755259200@golfgreywalls.com
SUMMARY:Ladies Club Championship
DESCRIPTION:
URL:https://golfgreywalls.com/event/ladies-club-championship/2025-08-15/
CATEGORIES:MGC Hosted Tournaments
END:VEVENT
BEGIN:VEVENT
DTSTART;TZID=UTC:20250813T173000
DTEND;TZID=UTC:20250813T193000
DTSTAMP:20260421T170957
CREATED:20250205T164339Z
LAST-MODIFIED:20250205T164341Z
UID:10000102-1755106200-1755113400@golfgreywalls.com
SUMMARY:Wednesday 3-Man League
DESCRIPTION:
URL:https://golfgreywalls.com/event/wednesday-3-man-league/2025-08-13/
LOCATION:Heritage
CATEGORIES:Leagues
END:VEVENT
BEGIN:VEVENT
DTSTART;TZID=UTC:20250812T174500
DTEND;TZID=UTC:20250812T200000
DTSTAMP:20260421T170957
CREATED:20250205T171049Z
LAST-MODIFIED:20250205T171051Z
UID:10000134-1755020700-1755028800@golfgreywalls.com
SUMMARY:Tuesday Late Shift League
DESCRIPTION:
URL:https://golfgreywalls.com/event/tuesday-late-shift-league/2025-08-12/
LOCATION:Heritage
CATEGORIES:Leagues
END:VEVENT
BEGIN:VEVENT
DTSTART;TZID=UTC:20250812T100000
DTEND;TZID=UTC:20250812T120000
DTSTAMP:20260421T170957
CREATED:20250205T170739Z
LAST-MODIFIED:20250205T170741Z
UID:10000122-1754992800-1755000000@golfgreywalls.com
SUMMARY:Tuesday Early Shift League
DESCRIPTION:
URL:https://golfgreywalls.com/event/tuesday-early-shift-league/2025-08-12/
CATEGORIES:Leagues
END:VEVENT
BEGIN:VEVENT
DTSTART;TZID=UTC:20250811T173000
DTEND;TZID=UTC:20250811T193000
DTSTAMP:20260421T170957
CREATED:20250205T210142Z
LAST-MODIFIED:20250205T210144Z
UID:10000177-1754933400-1754940600@golfgreywalls.com
SUMMARY:Ladies League
DESCRIPTION:
URL:https://golfgreywalls.com/event/ladies-league/2025-08-11/
LOCATION:Greywalls
CATEGORIES:Leagues
END:VEVENT
BEGIN:VEVENT
DTSTART;TZID=UTC:20250811T080000
DTEND;TZID=UTC:20250811T170000
DTSTAMP:20260421T170957
CREATED:20250205T201832Z
LAST-MODIFIED:20250205T201835Z
UID:10000158-1754899200-1754931600@golfgreywalls.com
SUMMARY:Senior and Super Senior Club Championship-Match Play
DESCRIPTION:
URL:https://golfgreywalls.com/event/senior-and-super-senior-club-championship-match-play/2025-08-11/
LOCATION:Greywalls
CATEGORIES:MGC Hosted Tournaments
END:VEVENT
BEGIN:VEVENT
DTSTART;TZID=UTC:20250811T080000
DTEND;TZID=UTC:20250811T170000
DTSTAMP:20260421T170957
CREATED:20250205T163747Z
LAST-MODIFIED:20250205T163748Z
UID:10000084-1754899200-1754931600@golfgreywalls.com
SUMMARY:DHL League
DESCRIPTION:
URL:https://golfgreywalls.com/event/dhl-league/2025-08-11/
LOCATION:Heritage
CATEGORIES:Leagues
END:VEVENT
BEGIN:VEVENT
DTSTART;TZID=UTC:20250810T120000
DTEND;TZID=UTC:20250810T130000
DTSTAMP:20260421T170957
CREATED:20250205T202111Z
LAST-MODIFIED:20250205T202113Z
UID:10000159-1754827200-1754830800@golfgreywalls.com
SUMMARY:Ladies Club Championship-Qualifying
DESCRIPTION:
URL:https://golfgreywalls.com/event/ladies-club-championship-qualifying/
LOCATION:Greywalls
CATEGORIES:MGC Hosted Tournaments
END:VEVENT
BEGIN:VEVENT
DTSTART;TZID=UTC:20250810T080000
DTEND;TZID=UTC:20250810T170000
DTSTAMP:20260421T170957
CREATED:20250205T201832Z
LAST-MODIFIED:20250205T201835Z
UID:10000157-1754812800-1754845200@golfgreywalls.com
SUMMARY:Senior and Super Senior Club Championship-Match Play
DESCRIPTION:
URL:https://golfgreywalls.com/event/senior-and-super-senior-club-championship-match-play/2025-08-10/
LOCATION:Greywalls
CATEGORIES:MGC Hosted Tournaments
END:VEVENT
BEGIN:VEVENT
DTSTART;TZID=UTC:20250809T080000
DTEND;TZID=UTC:20250809T170000
DTSTAMP:20260421T170957
CREATED:20250205T201832Z
LAST-MODIFIED:20250205T201835Z
UID:10000156-1754726400-1754758800@golfgreywalls.com
SUMMARY:Senior and Super Senior Club Championship-Match Play
DESCRIPTION:
URL:https://golfgreywalls.com/event/senior-and-super-senior-club-championship-match-play/2025-08-09/
LOCATION:Greywalls
CATEGORIES:MGC Hosted Tournaments
END:VEVENT
BEGIN:VEVENT
DTSTART;TZID=UTC:20250807T100000
DTEND;TZID=UTC:20250807T120000
DTSTAMP:20260421T170957
CREATED:20250205T201447Z
LAST-MODIFIED:20250205T201449Z
UID:10000155-1754560800-1754568000@golfgreywalls.com
SUMMARY:Junior Club Championship
DESCRIPTION:
URL:https://golfgreywalls.com/event/junior-club-championship/
LOCATION:Heritage
CATEGORIES:MGC Hosted Tournaments
END:VEVENT
BEGIN:VEVENT
DTSTART;TZID=UTC:20250806T173000
DTEND;TZID=UTC:20250806T193000
DTSTAMP:20260421T170957
CREATED:20250205T164339Z
LAST-MODIFIED:20250205T164341Z
UID:10000101-1754501400-1754508600@golfgreywalls.com
SUMMARY:Wednesday 3-Man League
DESCRIPTION:
URL:https://golfgreywalls.com/event/wednesday-3-man-league/2025-08-06/
LOCATION:Heritage
CATEGORIES:Leagues
END:VEVENT
BEGIN:VEVENT
DTSTART;TZID=UTC:20250805T174500
DTEND;TZID=UTC:20250805T200000
DTSTAMP:20260421T170957
CREATED:20250205T171049Z
LAST-MODIFIED:20250205T171051Z
UID:10000133-1754415900-1754424000@golfgreywalls.com
SUMMARY:Tuesday Late Shift League
DESCRIPTION:
URL:https://golfgreywalls.com/event/tuesday-late-shift-league/2025-08-05/
LOCATION:Heritage
CATEGORIES:Leagues
END:VEVENT
BEGIN:VEVENT
DTSTART;TZID=UTC:20250805T100000
DTEND;TZID=UTC:20250805T120000
DTSTAMP:20260421T170957
CREATED:20250205T170739Z
LAST-MODIFIED:20250205T170741Z
UID:10000121-1754388000-1754395200@golfgreywalls.com
SUMMARY:Tuesday Early Shift League
DESCRIPTION:
URL:https://golfgreywalls.com/event/tuesday-early-shift-league/2025-08-05/
CATEGORIES:Leagues
END:VEVENT
BEGIN:VEVENT
DTSTART;TZID=UTC:20250804T173000
DTEND;TZID=UTC:20250804T193000
DTSTAMP:20260421T170957
CREATED:20250205T210142Z
LAST-MODIFIED:20250205T210144Z
UID:10000176-1754328600-1754335800@golfgreywalls.com
SUMMARY:Ladies League
DESCRIPTION:
URL:https://golfgreywalls.com/event/ladies-league/2025-08-04/
LOCATION:Greywalls
CATEGORIES:Leagues
END:VEVENT
BEGIN:VEVENT
DTSTART;TZID=UTC:20250804T103000
DTEND;TZID=UTC:20250804T153000
DTSTAMP:20260421T170957
CREATED:20250205T201052Z
LAST-MODIFIED:20250205T201054Z
UID:10000154-1754303400-1754321400@golfgreywalls.com
SUMMARY:UPLGA Ryder Cup
DESCRIPTION:
URL:https://golfgreywalls.com/event/uplga-ryder-cup/
LOCATION:Heritage
CATEGORIES:MGC Hosted Tournaments
END:VEVENT
BEGIN:VEVENT
DTSTART;TZID=UTC:20250804T080000
DTEND;TZID=UTC:20250804T170000
DTSTAMP:20260421T170957
CREATED:20250205T163747Z
LAST-MODIFIED:20250205T163748Z
UID:10000083-1754294400-1754326800@golfgreywalls.com
SUMMARY:DHL League
DESCRIPTION:
URL:https://golfgreywalls.com/event/dhl-league/2025-08-04/
LOCATION:Heritage
CATEGORIES:Leagues
END:VEVENT
BEGIN:VEVENT
DTSTART;TZID=UTC:20250803T100000
DTEND;TZID=UTC:20250803T120000
DTSTAMP:20260421T170957
CREATED:20250205T200734Z
LAST-MODIFIED:20250205T200737Z
UID:10000153-1754215200-1754222400@golfgreywalls.com
SUMMARY:Senior Club Championship-Qualifier
DESCRIPTION:
URL:https://golfgreywalls.com/event/senior-club-championship-qualifier/
LOCATION:Greywalls
CATEGORIES:MGC Hosted Tournaments
END:VEVENT
BEGIN:VEVENT
DTSTART;TZID=UTC:20250802T103000
DTEND;TZID=UTC:20250802T153000
DTSTAMP:20260421T170957
CREATED:20250205T195744Z
LAST-MODIFIED:20250205T195746Z
UID:10000152-1754130600-1754148600@golfgreywalls.com
SUMMARY:UPGA Couples Scramble
DESCRIPTION:
URL:https://golfgreywalls.com/event/upga-couples-scramble/
LOCATION:Greywalls
CATEGORIES:MGC Hosted Tournaments
END:VEVENT
BEGIN:VEVENT
DTSTART;TZID=UTC:20250730T173000
DTEND;TZID=UTC:20250730T193000
DTSTAMP:20260421T170957
CREATED:20250205T164339Z
LAST-MODIFIED:20250205T164341Z
UID:10000100-1753896600-1753903800@golfgreywalls.com
SUMMARY:Wednesday 3-Man League
DESCRIPTION:
URL:https://golfgreywalls.com/event/wednesday-3-man-league/2025-07-30/
LOCATION:Heritage
CATEGORIES:Leagues
END:VEVENT
BEGIN:VEVENT
DTSTART;TZID=UTC:20250729T174500
DTEND;TZID=UTC:20250729T200000
DTSTAMP:20260421T170957
CREATED:20250205T171049Z
LAST-MODIFIED:20250205T171051Z
UID:10000132-1753811100-1753819200@golfgreywalls.com
SUMMARY:Tuesday Late Shift League
DESCRIPTION:
URL:https://golfgreywalls.com/event/tuesday-late-shift-league/2025-07-29/
LOCATION:Heritage
CATEGORIES:Leagues
END:VEVENT
BEGIN:VEVENT
DTSTART;TZID=UTC:20250729T100000
DTEND;TZID=UTC:20250729T120000
DTSTAMP:20260421T170957
CREATED:20250205T195500Z
LAST-MODIFIED:20250205T195503Z
UID:10000151-1753783200-1753790400@golfgreywalls.com
SUMMARY:Community Bankers of michigan
DESCRIPTION:
URL:https://golfgreywalls.com/event/community-bankers-of-michigan/
LOCATION:Greywalls
CATEGORIES:Golf Outings
END:VEVENT
BEGIN:VEVENT
DTSTART;TZID=UTC:20250729T100000
DTEND;TZID=UTC:20250729T120000
DTSTAMP:20260421T170957
CREATED:20250205T170739Z
LAST-MODIFIED:20250205T170741Z
UID:10000120-1753783200-1753790400@golfgreywalls.com
SUMMARY:Tuesday Early Shift League
DESCRIPTION:
URL:https://golfgreywalls.com/event/tuesday-early-shift-league/2025-07-29/
CATEGORIES:Leagues
END:VEVENT
BEGIN:VEVENT
DTSTART;TZID=UTC:20250728T173000
DTEND;TZID=UTC:20250728T193000
DTSTAMP:20260421T170957
CREATED:20250205T210142Z
LAST-MODIFIED:20250205T210144Z
UID:10000175-1753723800-1753731000@golfgreywalls.com
SUMMARY:Ladies League
DESCRIPTION:
URL:https://golfgreywalls.com/event/ladies-league/2025-07-28/
LOCATION:Greywalls
CATEGORIES:Leagues
END:VEVENT
BEGIN:VEVENT
DTSTART;TZID=UTC:20250728T080000
DTEND;TZID=UTC:20250728T170000
DTSTAMP:20260421T170957
CREATED:20250205T163747Z
LAST-MODIFIED:20250205T163748Z
UID:10000082-1753689600-1753722000@golfgreywalls.com
SUMMARY:DHL League
DESCRIPTION:
URL:https://golfgreywalls.com/event/dhl-league/2025-07-28/
LOCATION:Heritage
CATEGORIES:Leagues
END:VEVENT
BEGIN:VEVENT
DTSTART;TZID=UTC:20250727T080000
DTEND;TZID=UTC:20250727T170000
DTSTAMP:20260421T170957
CREATED:20250205T195121Z
LAST-MODIFIED:20250205T195123Z
UID:10000150-1753603200-1753635600@golfgreywalls.com
SUMMARY:Presidents Cup
DESCRIPTION:
URL:https://golfgreywalls.com/event/presidents-cup/2025-07-27/
LOCATION:Heritage
CATEGORIES:MGC Hosted Tournaments
END:VEVENT
BEGIN:VEVENT
DTSTART;TZID=UTC:20250726T080000
DTEND;TZID=UTC:20250726T170000
DTSTAMP:20260421T170957
CREATED:20250205T195121Z
LAST-MODIFIED:20250205T195123Z
UID:10000149-1753516800-1753549200@golfgreywalls.com
SUMMARY:Presidents Cup
DESCRIPTION:
URL:https://golfgreywalls.com/event/presidents-cup/2025-07-26/
LOCATION:Heritage
CATEGORIES:MGC Hosted Tournaments
END:VEVENT
END:VCALENDAR